BEGIN:VCALENDAR
VERSION:2.0
PRODID:-//GRAN FONDO - Corse, gare e granfondo in Italia - ECPv4.9.14//NONSGML v1.0//EN
CALSCALE:GREGORIAN
METHOD:PUBLISH
X-WR-CALNAME:GRAN FONDO - Corse, gare e granfondo in Italia
X-ORIGINAL-URL:https://www.granfondo.it
X-WR-CALDESC:Eventi per GRAN FONDO - Corse, gare e granfondo in Italia
BEGIN:VTIMEZONE
TZID:Europe/Paris
BEGIN:DAYLIGHT
TZOFFSETFROM:+0100
TZOFFSETTO:+0200
TZNAME:CEST
DTSTART:20190331T010000
END:DAYLIGHT
BEGIN:STANDARD
TZOFFSETFROM:+0200
TZOFFSETTO:+0100
TZNAME:CET
DTSTART:20191027T010000
END:STANDARD
END:VTIMEZONE
BEGIN:VEVENT
DTSTART;TZID=Europe/Paris:20190621T080000
DTEND;TZID=Europe/Paris:20190623T170000
DTSTAMP:20260420T070158
CREATED:20190130T131341Z
LAST-MODIFIED:20191017T073918Z
UID:8812-1561104000-1561309200@www.granfondo.it
SUMMARY:Yorkshire True Grit
DESCRIPTION:
URL:https://www.granfondo.it/granfondo/yorkshire-true-grit/
LOCATION:Yorkshire
CATEGORIES:Gravel,scaduto
ATTACH;FMTTYPE=image/jpeg:https://www.granfondo.it/wp-content/uploads/2019/01/Cattura-25.jpg
ORGANIZER;CN="YORKSHIRE%20TRUE%20GRIT%20LTD":MAILTO:info@yorkshiretruegrit.co.uk
END:VEVENT
END:VCALENDAR