BEGIN:VCALENDAR
VERSION:2.0
PRODID:-//GRAN FONDO - Corse, gare e granfondo in Italia - ECPv4.9.14//NONSGML v1.0//EN
CALSCALE:GREGORIAN
METHOD:PUBLISH
X-WR-CALNAME:GRAN FONDO - Corse, gare e granfondo in Italia
X-ORIGINAL-URL:https://www.granfondo.it
X-WR-CALDESC:Eventi per GRAN FONDO - Corse, gare e granfondo in Italia
BEGIN:VTIMEZONE
TZID:Europe/Paris
BEGIN:DAYLIGHT
TZOFFSETFROM:+0100
TZOFFSETTO:+0200
TZNAME:CEST
DTSTART:20150329T010000
END:DAYLIGHT
BEGIN:STANDARD
TZOFFSETFROM:+0200
TZOFFSETTO:+0100
TZNAME:CET
DTSTART:20151025T010000
END:STANDARD
END:VTIMEZONE
BEGIN:VEVENT
DTSTART;VALUE=DATE:20151101
DTEND;VALUE=DATE:20151102
DTSTAMP:20260420T012531
CREATED:20160615T072521Z
LAST-MODIFIED:20191017T072532Z
UID:6564-1446336000-1446422399@www.granfondo.it
SUMMARY:XC Parco del Po e del Morbasco
DESCRIPTION:
URL:https://www.granfondo.it/granfondo/xc-parco-del-po-del-morbasco/
LOCATION:Gerre de` Caprioli\, Gerre de` Caprioli                            \, Cremona\, Italia
CATEGORIES:Mountain Bike,scaduto
ATTACH;FMTTYPE=image/png:https://www.granfondo.it/wp-content/uploads/2016/05/LOGO-GRANFONDO.png
ORGANIZER;CN="Club%20Ciclistico%20Cremonese%20Road%20%26%20Mtb%20A.S.D":MAILTO:xcparcodelpo@gmail.com
END:VEVENT
END:VCALENDAR