BEGIN:VCALENDAR
VERSION:2.0
PRODID:-//GRAN FONDO - Corse, gare e granfondo in Italia - ECPv4.9.14//NONSGML v1.0//EN
CALSCALE:GREGORIAN
METHOD:PUBLISH
X-WR-CALNAME:GRAN FONDO - Corse, gare e granfondo in Italia
X-ORIGINAL-URL:https://www.granfondo.it
X-WR-CALDESC:Eventi per GRAN FONDO - Corse, gare e granfondo in Italia
BEGIN:VTIMEZONE
TZID:Europe/Paris
BEGIN:DAYLIGHT
TZOFFSETFROM:+0100
TZOFFSETTO:+0200
TZNAME:CEST
DTSTART:20150329T010000
END:DAYLIGHT
BEGIN:STANDARD
TZOFFSETFROM:+0200
TZOFFSETTO:+0100
TZNAME:CET
DTSTART:20151025T010000
END:STANDARD
END:VTIMEZONE
BEGIN:VEVENT
DTSTART;VALUE=DATE:20150531
DTEND;VALUE=DATE:20150601
DTSTAMP:20260420T011011
CREATED:20160615T070735Z
LAST-MODIFIED:20191017T072321Z
UID:6535-1433030400-1433116799@www.granfondo.it
SUMMARY:Waidhofner
DESCRIPTION:
URL:https://www.granfondo.it/granfondo/waidhofner/
LOCATION:Waidhofen/Ybbs\, Waidhofen/Ybbs                            
CATEGORIES:Bici Da Corsa,scaduto
ATTACH;FMTTYPE=image/png:https://www.granfondo.it/wp-content/uploads/2016/05/LOGO-GRANFONDO.png
ORGANIZER;CN="ASK%C3%83%E2%80%93%20ARB%C3%83%E2%80%93%20Waidhofen%2FYbbs":MAILTO:askoe.wy@utanet.at
END:VEVENT
END:VCALENDAR