BEGIN:VCALENDAR
VERSION:2.0
PRODID:-//GRAN FONDO - Corse, gare e granfondo in Italia - ECPv4.9.14//NONSGML v1.0//EN
CALSCALE:GREGORIAN
METHOD:PUBLISH
X-WR-CALNAME:GRAN FONDO - Corse, gare e granfondo in Italia
X-ORIGINAL-URL:https://www.granfondo.it
X-WR-CALDESC:Eventi per GRAN FONDO - Corse, gare e granfondo in Italia
BEGIN:VTIMEZONE
TZID:Europe/Paris
BEGIN:DAYLIGHT
TZOFFSETFROM:+0100
TZOFFSETTO:+0200
TZNAME:CEST
DTSTART:20150329T010000
END:DAYLIGHT
BEGIN:STANDARD
TZOFFSETFROM:+0200
TZOFFSETTO:+0100
TZNAME:CET
DTSTART:20151025T010000
END:STANDARD
END:VTIMEZONE
BEGIN:VEVENT
DTSTART;VALUE=DATE:20151004
DTEND;VALUE=DATE:20151005
DTSTAMP:20260424T115015
CREATED:20160615T062453Z
LAST-MODIFIED:20191017T072540Z
UID:6465-1443916800-1444003199@www.granfondo.it
SUMMARY:Trofeo Damiano Darra
DESCRIPTION:
URL:https://www.granfondo.it/granfondo/trofeo-damiano-darra/
LOCATION:Cavriana\, Cavriana                            \, Mantova\, Italia
CATEGORIES:Mountain Bike,scaduto
ATTACH;FMTTYPE=image/png:https://www.granfondo.it/wp-content/uploads/2016/05/LOGO-GRANFONDO.png
END:VEVENT
END:VCALENDAR