BEGIN:VCALENDAR
VERSION:2.0
PRODID:-//GRAN FONDO - Corse, gare e granfondo in Italia - ECPv4.9.14//NONSGML v1.0//EN
CALSCALE:GREGORIAN
METHOD:PUBLISH
X-WR-CALNAME:GRAN FONDO - Corse, gare e granfondo in Italia
X-ORIGINAL-URL:https://www.granfondo.it
X-WR-CALDESC:Eventi per GRAN FONDO - Corse, gare e granfondo in Italia
BEGIN:VTIMEZONE
TZID:Europe/Paris
BEGIN:DAYLIGHT
TZOFFSETFROM:+0100
TZOFFSETTO:+0200
TZNAME:CEST
DTSTART:20160327T010000
END:DAYLIGHT
BEGIN:STANDARD
TZOFFSETFROM:+0200
TZOFFSETTO:+0100
TZNAME:CET
DTSTART:20161030T010000
END:STANDARD
END:VTIMEZONE
BEGIN:VEVENT
DTSTART;VALUE=DATE:20160911
DTEND;VALUE=DATE:20160912
DTSTAMP:20260419T140246
CREATED:20160530T083751Z
LAST-MODIFIED:20191017T073442Z
UID:4147-1473552000-1473638399@www.granfondo.it
SUMMARY:o-tour Bike Marathon Obwalden\, Alpnach
DESCRIPTION:
URL:https://www.granfondo.it/granfondo/tour-bike-marathon-obwalden-alpnach/
LOCATION:Alpnach\, Alpnach
CATEGORIES:Mountain Bike,scaduto
ATTACH;FMTTYPE=image/png:https://www.granfondo.it/wp-content/uploads/2016/05/LOGO-GRANFONDO.png
ORGANIZER;CN="o-tour%20Bike%20Marathon%20Obwalden":MAILTO:&quot;PO Box 1501 CH-6061 Sarnen  o-tour @ Facebook&quot;
END:VEVENT
END:VCALENDAR