BEGIN:VCALENDAR
VERSION:2.0
PRODID:-//GRAN FONDO - Corse, gare e granfondo in Italia - ECPv4.9.14//NONSGML v1.0//EN
CALSCALE:GREGORIAN
METHOD:PUBLISH
X-WR-CALNAME:GRAN FONDO - Corse, gare e granfondo in Italia
X-ORIGINAL-URL:https://www.granfondo.it
X-WR-CALDESC:Eventi per GRAN FONDO - Corse, gare e granfondo in Italia
BEGIN:VTIMEZONE
TZID:Europe/Paris
BEGIN:DAYLIGHT
TZOFFSETFROM:+0100
TZOFFSETTO:+0200
TZNAME:CEST
DTSTART:20150329T010000
END:DAYLIGHT
BEGIN:STANDARD
TZOFFSETFROM:+0200
TZOFFSETTO:+0100
TZNAME:CET
DTSTART:20151025T010000
END:STANDARD
END:VTIMEZONE
BEGIN:VEVENT
DTSTART;VALUE=DATE:20150516
DTEND;VALUE=DATE:20150517
DTSTAMP:20260419T212845
CREATED:20160615T055434Z
LAST-MODIFIED:20191017T072013Z
UID:6419-1431734400-1431820799@www.granfondo.it
SUMMARY:Stubalpen Mountainbike Marathon
DESCRIPTION:
URL:https://www.granfondo.it/granfondo/stubalpen-mountainbike-marathon/
LOCATION:Europa
CATEGORIES:Mountain Bike,scaduto
ATTACH;FMTTYPE=image/png:https://www.granfondo.it/wp-content/uploads/2016/05/LOGO-GRANFONDO.png
ORGANIZER;CN="Crazy%20Cross%20Biker":MAILTO:ccb@crazy-cross-biker.at
END:VEVENT
END:VCALENDAR