BEGIN:VCALENDAR
VERSION:2.0
PRODID:-//GRAN FONDO - Corse, gare e granfondo in Italia - ECPv4.9.14//NONSGML v1.0//EN
CALSCALE:GREGORIAN
METHOD:PUBLISH
X-WR-CALNAME:GRAN FONDO - Corse, gare e granfondo in Italia
X-ORIGINAL-URL:https://www.granfondo.it
X-WR-CALDESC:Eventi per GRAN FONDO - Corse, gare e granfondo in Italia
BEGIN:VTIMEZONE
TZID:Europe/Paris
BEGIN:DAYLIGHT
TZOFFSETFROM:+0100
TZOFFSETTO:+0200
TZNAME:CEST
DTSTART:20150329T010000
END:DAYLIGHT
BEGIN:STANDARD
TZOFFSETFROM:+0200
TZOFFSETTO:+0100
TZNAME:CET
DTSTART:20151025T010000
END:STANDARD
END:VTIMEZONE
BEGIN:VEVENT
DTSTART;VALUE=DATE:20151003
DTEND;VALUE=DATE:20151004
DTSTAMP:20260420T075752
CREATED:20160613T153130Z
LAST-MODIFIED:20191017T072541Z
UID:6398-1443830400-1443916799@www.granfondo.it
SUMMARY:Sparkassen MÃnsterland Giro
DESCRIPTION:
URL:https://www.granfondo.it/granfondo/sparkassen-ma%c2%bcnsterland-giro/
LOCATION:MÃnster\, MÃnster
CATEGORIES:Bici Da Corsa,scaduto
ATTACH;FMTTYPE=image/png:https://www.granfondo.it/wp-content/uploads/2016/05/LOGO-GRANFONDO.png
ORGANIZER;CN="Stadt%20M%C3%83nster":MAILTO:SparkassenMuensterlandGiro@stadt-muenster.de
END:VEVENT
END:VCALENDAR