 BEGIN:VCALENDAR
VERSION:2.0
PRODID:-//GRAN FONDO - Corse, gare e granfondo in Italia - ECPv4.9.14//NONSGML v1.0//EN
CALSCALE:GREGORIAN
METHOD:PUBLISH
X-WR-CALNAME:GRAN FONDO - Corse, gare e granfondo in Italia
X-ORIGINAL-URL:https://www.granfondo.it
X-WR-CALDESC:Eventi per GRAN FONDO - Corse, gare e granfondo in Italia
BEGIN:VTIMEZONE
TZID:Europe/Paris
BEGIN:DAYLIGHT
TZOFFSETFROM:+0100
TZOFFSETTO:+0200
TZNAME:CEST
DTSTART:20230326T010000
END:DAYLIGHT
BEGIN:STANDARD
TZOFFSETFROM:+0200
TZOFFSETTO:+0100
TZNAME:CET
DTSTART:20231029T010000
END:STANDARD
END:VTIMEZONE
BEGIN:VEVENT
DTSTART;TZID=Europe/Paris:20230826T000000
DTEND;TZID=Europe/Paris:20230827T150000
DTSTAMP:20260425T151211
CREATED:20191025T070035Z
LAST-MODIFIED:20230926T091410Z
UID:9176-1693008000-1693148400@www.granfondo.it
SUMMARY:ŠKODA 24 Hours Cycling
DESCRIPTION:Created in 2009\, the ŠKODA 24 Hours Cycling race takes place on the legendary Bugatti circuit of Le Mans every end of August. This is a relay cycling race in team of 2\, 4\, 6 or 8 riders\, or even in single for the bravest. \nThis human and sports adventure is open to everyone\, from the long-distance amateur cyclist\, French or foreigner. Will you dare to take up the challenge and live the unique experience of a night relay in Le Mans? \n  \nIMPORTANT: Registration on www.24heuresvelo.fr/en/ until 2022 July 19 and limited to 580 teams including 80 single and 40 pairs! \n  \nName: ŠKODA 24 Hours Cycling \nDate: Saturday 27 and Sunday 28 August 2022 \nDeparture city: Le Mans \nDistance and altitude of circuits: 4185m per lap (600 meters from 3\,5% to 7% before the Dunlop Bridge) \nIMPORTANT \nLimited to the first 580 teams including 80 single and 40 pairs! \n\nPRICE  \nSingle: 330€ – Pair: 525€ – Team of 4: 790€ – Team of 6: 920€ – Team of 8: 1050€ \nSpecial rate for the opening of registrations \nOpening of registrations on January 11th 2022 \nCONTACT \nCGO Événement \nEmail: course@24heuresvelo.fr \n            \n                                    Regione:\n                                -1            \n                    \n                                    Provincia:\n                                -1            \n                    \n                                    Comune:\n                                -1            \n        
URL:https://www.granfondo.it/granfondo/shimano-24-hours-cycling/
LOCATION:Circuit Bugatti\, Circuit Bugatti\, Le Mans\, FR\, 72100
CATEGORIES:Cicloturistica
ATTACH;FMTTYPE=image/jpeg:https://www.granfondo.it/wp-content/uploads/2019/10/Drouet-IMG_7160-1.jpg
END:VEVENT
END:VCALENDAR