BEGIN:VCALENDAR
VERSION:2.0
PRODID:-//GRAN FONDO - Corse, gare e granfondo in Italia - ECPv4.9.14//NONSGML v1.0//EN
CALSCALE:GREGORIAN
METHOD:PUBLISH
X-WR-CALNAME:GRAN FONDO - Corse, gare e granfondo in Italia
X-ORIGINAL-URL:https://www.granfondo.it
X-WR-CALDESC:Eventi per GRAN FONDO - Corse, gare e granfondo in Italia
BEGIN:VTIMEZONE
TZID:Europe/Paris
BEGIN:DAYLIGHT
TZOFFSETFROM:+0100
TZOFFSETTO:+0200
TZNAME:CEST
DTSTART:20180325T010000
END:DAYLIGHT
BEGIN:STANDARD
TZOFFSETFROM:+0200
TZOFFSETTO:+0100
TZNAME:CET
DTSTART:20181028T010000
END:STANDARD
END:VTIMEZONE
BEGIN:VEVENT
DTSTART;VALUE=DATE:20181007
DTEND;VALUE=DATE:20181008
DTSTAMP:20260420T002103
CREATED:20170714T131932Z
LAST-MODIFIED:20191017T073701Z
UID:7204-1538870400-1538956799@www.granfondo.it
SUMMARY:Roc d'Azur
DESCRIPTION:
URL:https://www.granfondo.it/granfondo/roc/
LOCATION:Frejus\, Frejus
CATEGORIES:Mountain Bike,scaduto
ATTACH;FMTTYPE=image/jpeg:https://www.granfondo.it/wp-content/uploads/2017/07/MediaHandler.jpg
ORGANIZER;CN="A.S.O.%20-%20l%27%C3%83%E2%80%B0tape%20du%20Tour%20-%20V%C3%83%C2%A9lo%20Magazine":MAILTO:letapedutour@aso.fr
END:VEVENT
END:VCALENDAR