BEGIN:VCALENDAR
VERSION:2.0
PRODID:-//GRAN FONDO - Corse, gare e granfondo in Italia - ECPv4.9.14//NONSGML v1.0//EN
CALSCALE:GREGORIAN
METHOD:PUBLISH
X-WR-CALNAME:GRAN FONDO - Corse, gare e granfondo in Italia
X-ORIGINAL-URL:https://www.granfondo.it
X-WR-CALDESC:Eventi per GRAN FONDO - Corse, gare e granfondo in Italia
BEGIN:VTIMEZONE
TZID:Europe/Paris
BEGIN:DAYLIGHT
TZOFFSETFROM:+0100
TZOFFSETTO:+0200
TZNAME:CEST
DTSTART:20150329T010000
END:DAYLIGHT
BEGIN:STANDARD
TZOFFSETFROM:+0200
TZOFFSETTO:+0100
TZNAME:CET
DTSTART:20151025T010000
END:STANDARD
END:VTIMEZONE
BEGIN:VEVENT
DTSTART;VALUE=DATE:20151007
DTEND;VALUE=DATE:20151012
DTSTAMP:20260420T043225
CREATED:20160613T145338Z
LAST-MODIFIED:20191017T072538Z
UID:6353-1444176000-1444607999@www.granfondo.it
SUMMARY:Roc d’Azur
DESCRIPTION:
URL:https://www.granfondo.it/granfondo/roc-dazur/
LOCATION:Frejus\, Frejus
CATEGORIES:Mountain Bike,scaduto
ATTACH;FMTTYPE=image/png:https://www.granfondo.it/wp-content/uploads/2016/05/LOGO-GRANFONDO.png
ORGANIZER;CN="Unnamed%20Organizer":MAILTO:&quot;If you have any questions about your registration or the organisation of the event, and have been unable to find the required information on our website, our team is at your disposal from Monday to Friday. Email: rocazur@aso.fr Tel.: +33 (0)9 69 36 88 21  Contact for Partners Maximilien You Email: myou@aso.fr  Contact for Exhibitors Tatiana Everinoff Email: tevreinoff@aso.fr Tel.: +33 (0) 1 41 33 46 17  Contact for the Media: Marine De Lestapis Email: mdelestapis@aso.fr&quot;
END:VEVENT
END:VCALENDAR