BEGIN:VCALENDAR
VERSION:2.0
PRODID:-//GRAN FONDO - Corse, gare e granfondo in Italia - ECPv4.9.14//NONSGML v1.0//EN
CALSCALE:GREGORIAN
METHOD:PUBLISH
X-WR-CALNAME:GRAN FONDO - Corse, gare e granfondo in Italia
X-ORIGINAL-URL:https://www.granfondo.it
X-WR-CALDESC:Eventi per GRAN FONDO - Corse, gare e granfondo in Italia
BEGIN:VTIMEZONE
TZID:Europe/Paris
BEGIN:DAYLIGHT
TZOFFSETFROM:+0100
TZOFFSETTO:+0200
TZNAME:CEST
DTSTART:20150329T010000
END:DAYLIGHT
BEGIN:STANDARD
TZOFFSETFROM:+0200
TZOFFSETTO:+0100
TZNAME:CET
DTSTART:20151025T010000
END:STANDARD
END:VTIMEZONE
BEGIN:VEVENT
DTSTART;VALUE=DATE:20150927
DTEND;VALUE=DATE:20150928
DTSTAMP:20260420T030436
CREATED:20160613T065830Z
LAST-MODIFIED:20191017T072543Z
UID:5941-1443312000-1443398399@www.granfondo.it
SUMMARY:Il ritorno dell’Arrotino
DESCRIPTION:
URL:https://www.granfondo.it/granfondo/ritorno-dellarrotino-2/
LOCATION:Roma\, Roma\, Roma\, Italia
CATEGORIES:Bici Da Corsa,scaduto
ATTACH;FMTTYPE=image/png:https://www.granfondo.it/wp-content/uploads/2016/05/LOGO-GRANFONDO.png
ORGANIZER;CN="ASD%20CICLI%20ROMA%20CLUB":MAILTO:info@largosole.com
END:VEVENT
END:VCALENDAR