BEGIN:VCALENDAR
VERSION:2.0
PRODID:-//GRAN FONDO - Corse, gare e granfondo in Italia - ECPv4.9.14//NONSGML v1.0//EN
CALSCALE:GREGORIAN
METHOD:PUBLISH
X-WR-CALNAME:GRAN FONDO - Corse, gare e granfondo in Italia
X-ORIGINAL-URL:https://www.granfondo.it
X-WR-CALDESC:Eventi per GRAN FONDO - Corse, gare e granfondo in Italia
BEGIN:VTIMEZONE
TZID:Europe/Paris
BEGIN:DAYLIGHT
TZOFFSETFROM:+0100
TZOFFSETTO:+0200
TZNAME:CEST
DTSTART:20160327T010000
END:DAYLIGHT
BEGIN:STANDARD
TZOFFSETFROM:+0200
TZOFFSETTO:+0100
TZNAME:CET
DTSTART:20161030T010000
END:STANDARD
END:VTIMEZONE
BEGIN:VEVENT
DTSTART;TZID=Europe/Paris:20160603T080000
DTEND;TZID=Europe/Paris:20160605T170000
DTSTAMP:20260419T203914
CREATED:20160531T075820Z
LAST-MODIFIED:20191017T073215Z
UID:4244-1464940800-1465146000@www.granfondo.it
SUMMARY:Rally di Romagna MTB Tappa 3
DESCRIPTION:
URL:https://www.granfondo.it/granfondo/rally-romagna-mtb-tappa-3/
LOCATION:Riolo Terme\, Riolo Terme                            \, Ravenna\, Italia
CATEGORIES:scaduto
ATTACH;FMTTYPE=image/png:https://www.granfondo.it/wp-content/uploads/2016/05/LOGO-GRANFONDO.png
END:VEVENT
END:VCALENDAR