BEGIN:VCALENDAR
VERSION:2.0
PRODID:-//GRAN FONDO - Corse, gare e granfondo in Italia - ECPv4.9.14//NONSGML v1.0//EN
CALSCALE:GREGORIAN
METHOD:PUBLISH
X-WR-CALNAME:GRAN FONDO - Corse, gare e granfondo in Italia
X-ORIGINAL-URL:https://www.granfondo.it
X-WR-CALDESC:Eventi per GRAN FONDO - Corse, gare e granfondo in Italia
BEGIN:VTIMEZONE
TZID:Europe/Paris
BEGIN:DAYLIGHT
TZOFFSETFROM:+0100
TZOFFSETTO:+0200
TZNAME:CEST
DTSTART:20160327T010000
END:DAYLIGHT
BEGIN:STANDARD
TZOFFSETFROM:+0200
TZOFFSETTO:+0100
TZNAME:CET
DTSTART:20161030T010000
END:STANDARD
END:VTIMEZONE
BEGIN:VEVENT
DTSTART;TZID=Europe/Paris:20160601T080000
DTEND;TZID=Europe/Paris:20160605T170000
DTSTAMP:20260419T125544
CREATED:20160531T075601Z
LAST-MODIFIED:20191017T073217Z
UID:4241-1464768000-1465146000@www.granfondo.it
SUMMARY:Rally di Romagna MTB Tappa 1
DESCRIPTION:
URL:https://www.granfondo.it/granfondo/rally-romagna-mtb-tappa-1/
LOCATION:Riolo Terme\, Riolo Terme                            \, Ravenna\, Italia
CATEGORIES:Mountain Bike,scaduto
ATTACH;FMTTYPE=image/png:https://www.granfondo.it/wp-content/uploads/2016/05/LOGO-GRANFONDO.png
ORGANIZER;CN="Romagna%20Bike%20Grandi%20Eventi%20A.S.D.":MAILTO:stefanoema@alice.it
END:VEVENT
END:VCALENDAR