BEGIN:VCALENDAR
VERSION:2.0
PRODID:-//GRAN FONDO - Corse, gare e granfondo in Italia - ECPv4.9.14//NONSGML v1.0//EN
CALSCALE:GREGORIAN
METHOD:PUBLISH
X-WR-CALNAME:GRAN FONDO - Corse, gare e granfondo in Italia
X-ORIGINAL-URL:https://www.granfondo.it
X-WR-CALDESC:Eventi per GRAN FONDO - Corse, gare e granfondo in Italia
BEGIN:VTIMEZONE
TZID:Europe/Paris
BEGIN:DAYLIGHT
TZOFFSETFROM:+0100
TZOFFSETTO:+0200
TZNAME:CEST
DTSTART:20180325T010000
END:DAYLIGHT
BEGIN:STANDARD
TZOFFSETFROM:+0200
TZOFFSETTO:+0100
TZNAME:CET
DTSTART:20181028T010000
END:STANDARD
END:VTIMEZONE
BEGIN:VEVENT
DTSTART;VALUE=DATE:20180610
DTEND;VALUE=DATE:20180611
DTSTAMP:20260421T083526
CREATED:20180201T121744Z
LAST-MODIFIED:20191017T073724Z
UID:7741-1528588800-1528675199@www.granfondo.it
SUMMARY:Promenado Bike dei Forti Albertini
DESCRIPTION:
URL:https://www.granfondo.it/granfondo/promenado-bike-dei-forti-albertini/
LOCATION:Vinadio\, Vinadio\, Cuneo\, Italia
CATEGORIES:Mountain Bike,scaduto
ATTACH;FMTTYPE=image/jpeg:https://www.granfondo.it/wp-content/uploads/2016/05/dannunzio.jpg
ORGANIZER;CN="ASD%20Valle%20Stura%20Sport":MAILTO:	info@vallesturasport.it
END:VEVENT
END:VCALENDAR