BEGIN:VCALENDAR
VERSION:2.0
PRODID:-//GRAN FONDO - Corse, gare e granfondo in Italia - ECPv4.9.14//NONSGML v1.0//EN
CALSCALE:GREGORIAN
METHOD:PUBLISH
X-WR-CALNAME:GRAN FONDO - Corse, gare e granfondo in Italia
X-ORIGINAL-URL:https://www.granfondo.it
X-WR-CALDESC:Eventi per GRAN FONDO - Corse, gare e granfondo in Italia
BEGIN:VTIMEZONE
TZID:Europe/Paris
BEGIN:DAYLIGHT
TZOFFSETFROM:+0100
TZOFFSETTO:+0200
TZNAME:CEST
DTSTART:20150329T010000
END:DAYLIGHT
BEGIN:STANDARD
TZOFFSETFROM:+0200
TZOFFSETTO:+0100
TZNAME:CET
DTSTART:20151025T010000
END:STANDARD
END:VTIMEZONE
BEGIN:VEVENT
DTSTART;VALUE=DATE:20150614
DTEND;VALUE=DATE:20150615
DTSTAMP:20260420T012338
CREATED:20160613T130711Z
LAST-MODIFIED:20191017T072306Z
UID:6230-1434240000-1434326399@www.granfondo.it
SUMMARY:Obersteirischer Jedermann Radmarathon
DESCRIPTION:
URL:https://www.granfondo.it/granfondo/obersteirischer-jedermann-radmarathon/
LOCATION:Fohnsdorf\, Fohnsdorf                            
CATEGORIES:Mountain Bike,scaduto
ATTACH;FMTTYPE=image/png:https://www.granfondo.it/wp-content/uploads/2016/05/LOGO-GRANFONDO.png
ORGANIZER;CN="sportness7events%20%2F%20Dieter%20Gruber":MAILTO:r.gressl@sportness7.at
END:VEVENT
END:VCALENDAR