BEGIN:VCALENDAR
VERSION:2.0
PRODID:-//GRAN FONDO - Corse, gare e granfondo in Italia - ECPv4.9.14//NONSGML v1.0//EN
CALSCALE:GREGORIAN
METHOD:PUBLISH
X-WR-CALNAME:GRAN FONDO - Corse, gare e granfondo in Italia
X-ORIGINAL-URL:https://www.granfondo.it
X-WR-CALDESC:Eventi per GRAN FONDO - Corse, gare e granfondo in Italia
BEGIN:VTIMEZONE
TZID:Europe/Paris
BEGIN:DAYLIGHT
TZOFFSETFROM:+0100
TZOFFSETTO:+0200
TZNAME:CEST
DTSTART:20230326T010000
END:DAYLIGHT
BEGIN:STANDARD
TZOFFSETFROM:+0200
TZOFFSETTO:+0100
TZNAME:CET
DTSTART:20231029T010000
END:STANDARD
END:VTIMEZONE
BEGIN:VEVENT
DTSTART;TZID=Europe/Paris:20230528T080000
DTEND;TZID=Europe/Paris:20230528T170000
DTSTAMP:20260425T195952
CREATED:20230118T141846Z
LAST-MODIFIED:20230118T141846Z
UID:32459-1685260800-1685293200@www.granfondo.it
SUMMARY:Mediofondo Pian del Lupo
DESCRIPTION:
URL:https://www.granfondo.it/granfondo/mediofondo-pian-del-lupo/
LOCATION:Agliè
CATEGORIES:Bici Da Corsa
ATTACH;FMTTYPE=image/jpeg:https://www.granfondo.it/wp-content/uploads/2019/04/Granfondo-Cassino.jpg
ORGANIZER;CN="Gran%20Trofeo%20Eventi%20Sportivi":MAILTO:gteventisportivi@gmail.com
END:VEVENT
END:VCALENDAR