BEGIN:VCALENDAR
VERSION:2.0
PRODID:-//GRAN FONDO - Corse, gare e granfondo in Italia - ECPv4.9.14//NONSGML v1.0//EN
CALSCALE:GREGORIAN
METHOD:PUBLISH
X-WR-CALNAME:GRAN FONDO - Corse, gare e granfondo in Italia
X-ORIGINAL-URL:https://www.granfondo.it
X-WR-CALDESC:Eventi per GRAN FONDO - Corse, gare e granfondo in Italia
BEGIN:VTIMEZONE
TZID:Europe/Paris
BEGIN:DAYLIGHT
TZOFFSETFROM:+0100
TZOFFSETTO:+0200
TZNAME:CEST
DTSTART:20240331T010000
END:DAYLIGHT
BEGIN:STANDARD
TZOFFSETFROM:+0200
TZOFFSETTO:+0100
TZNAME:CET
DTSTART:20241027T010000
END:STANDARD
END:VTIMEZONE
BEGIN:VEVENT
DTSTART;TZID=Europe/Paris:20240324T080000
DTEND;TZID=Europe/Paris:20240324T170000
DTSTAMP:20260423T040823
CREATED:20231205T142725Z
LAST-MODIFIED:20231205T142725Z
UID:39166-1711267200-1711299600@www.granfondo.it
SUMMARY:Mediofondo Giro delle Vigne
DESCRIPTION:
URL:https://www.granfondo.it/granfondo/mediofondo-giro-delle-vigne/
LOCATION:Campomarino\, Campomarino                            \, Campobasso\, Italia
CATEGORIES:Bici Da Corsa
ATTACH;FMTTYPE=image/jpeg:https://www.granfondo.it/wp-content/uploads/2019/04/Granfondo-Cassino.jpg
ORGANIZER;CN="Giro%20delle%20vigne":MAILTO:iacurtirosario1@gmail.com
END:VEVENT
END:VCALENDAR