BEGIN:VCALENDAR
VERSION:2.0
PRODID:-//GRAN FONDO - Corse, gare e granfondo in Italia - ECPv4.9.14//NONSGML v1.0//EN
CALSCALE:GREGORIAN
METHOD:PUBLISH
X-WR-CALNAME:GRAN FONDO - Corse, gare e granfondo in Italia
X-ORIGINAL-URL:https://www.granfondo.it
X-WR-CALDESC:Eventi per GRAN FONDO - Corse, gare e granfondo in Italia
BEGIN:VTIMEZONE
TZID:Europe/Paris
BEGIN:DAYLIGHT
TZOFFSETFROM:+0100
TZOFFSETTO:+0200
TZNAME:CEST
DTSTART:20240331T010000
END:DAYLIGHT
BEGIN:STANDARD
TZOFFSETFROM:+0200
TZOFFSETTO:+0100
TZNAME:CET
DTSTART:20241027T010000
END:STANDARD
END:VTIMEZONE
BEGIN:VEVENT
DTSTART;VALUE=DATE:20240310
DTEND;VALUE=DATE:20240311
DTSTAMP:20260423T040829
CREATED:20231017T134342Z
LAST-MODIFIED:20231017T134342Z
UID:38403-1710028800-1710115199@www.granfondo.it
SUMMARY:Medio Fondo del Quasar
DESCRIPTION:
URL:https://www.granfondo.it/granfondo/medio-fondo-del-quasar/
LOCATION:Corciano
CATEGORIES:Bici Da Corsa
ATTACH;FMTTYPE=image/jpeg:https://www.granfondo.it/wp-content/uploads/2016/05/Cattura-48.jpg
ORGANIZER;CN="Grifo%20Bike%20Perugia":MAILTO:info@grifobike.it
END:VEVENT
END:VCALENDAR