BEGIN:VCALENDAR
VERSION:2.0
PRODID:-//GRAN FONDO - Corse, gare e granfondo in Italia - ECPv4.9.14//NONSGML v1.0//EN
CALSCALE:GREGORIAN
METHOD:PUBLISH
X-WR-CALNAME:GRAN FONDO - Corse, gare e granfondo in Italia
X-ORIGINAL-URL:https://www.granfondo.it
X-WR-CALDESC:Eventi per GRAN FONDO - Corse, gare e granfondo in Italia
BEGIN:VTIMEZONE
TZID:Europe/Paris
BEGIN:DAYLIGHT
TZOFFSETFROM:+0100
TZOFFSETTO:+0200
TZNAME:CEST
DTSTART:20160327T010000
END:DAYLIGHT
BEGIN:STANDARD
TZOFFSETFROM:+0200
TZOFFSETTO:+0100
TZNAME:CET
DTSTART:20161030T010000
END:STANDARD
END:VTIMEZONE
BEGIN:VEVENT
DTSTART;VALUE=DATE:20160710
DTEND;VALUE=DATE:20160711
DTSTAMP:20260419T213228
CREATED:20160530T070224Z
LAST-MODIFIED:20191017T073515Z
UID:4070-1468108800-1468195199@www.granfondo.it
SUMMARY:Medio Fondo Città  di Roccasecca
DESCRIPTION:
URL:https://www.granfondo.it/granfondo/medio-fondo-citta-roccasecca/
LOCATION:Roccasecca\, Roccasecca\, Frosinone\, Italia
CATEGORIES:Bici Da Corsa,scaduto
ATTACH;FMTTYPE=image/jpeg:https://www.granfondo.it/wp-content/uploads/2016/05/copertine_facebook_22.jpg
ORGANIZER;CN="ASD%20ROCCASECCA%20BIKE":MAILTO:info@mediofondoroccasecca.it
END:VEVENT
END:VCALENDAR