BEGIN:VCALENDAR
VERSION:2.0
PRODID:-//GRAN FONDO - Corse, gare e granfondo in Italia - ECPv4.9.14//NONSGML v1.0//EN
CALSCALE:GREGORIAN
METHOD:PUBLISH
X-WR-CALNAME:GRAN FONDO - Corse, gare e granfondo in Italia
X-ORIGINAL-URL:https://www.granfondo.it
X-WR-CALDESC:Eventi per GRAN FONDO - Corse, gare e granfondo in Italia
BEGIN:VTIMEZONE
TZID:Europe/Paris
BEGIN:DAYLIGHT
TZOFFSETFROM:+0100
TZOFFSETTO:+0200
TZNAME:CEST
DTSTART:20190331T010000
END:DAYLIGHT
BEGIN:STANDARD
TZOFFSETFROM:+0200
TZOFFSETTO:+0100
TZNAME:CET
DTSTART:20191027T010000
END:STANDARD
END:VTIMEZONE
BEGIN:VEVENT
DTSTART;VALUE=DATE:20190428
DTEND;VALUE=DATE:20190429
DTSTAMP:20260419T150231
CREATED:20160613T083901Z
LAST-MODIFIED:20191017T074035Z
UID:6056-1556409600-1556495999@www.granfondo.it
SUMMARY:Marathon Castello di Pietrarossa
DESCRIPTION:
URL:https://www.granfondo.it/granfondo/marathon-castello-pietrarossa/
LOCATION:Caltanisetta\, Caltanisetta\, Caltanisetta\, Italia
CATEGORIES:Mountain Bike,scaduto
ATTACH;FMTTYPE=image/jpeg:https://www.granfondo.it/wp-content/uploads/2017/07/paez.sila_.epic_.jpg
ORGANIZER;CN="Special%20Biker%20team":MAILTO:marcello.ginevra@tiscali.it
END:VEVENT
END:VCALENDAR