BEGIN:VCALENDAR
VERSION:2.0
PRODID:-//GRAN FONDO - Corse, gare e granfondo in Italia - ECPv4.9.14//NONSGML v1.0//EN
CALSCALE:GREGORIAN
METHOD:PUBLISH
X-WR-CALNAME:GRAN FONDO - Corse, gare e granfondo in Italia
X-ORIGINAL-URL:https://www.granfondo.it
X-WR-CALDESC:Eventi per GRAN FONDO - Corse, gare e granfondo in Italia
BEGIN:VTIMEZONE
TZID:Europe/Paris
BEGIN:DAYLIGHT
TZOFFSETFROM:+0100
TZOFFSETTO:+0200
TZNAME:CEST
DTSTART:20170326T010000
END:DAYLIGHT
BEGIN:STANDARD
TZOFFSETFROM:+0200
TZOFFSETTO:+0100
TZNAME:CET
DTSTART:20171029T010000
END:STANDARD
END:VTIMEZONE
BEGIN:VEVENT
DTSTART;TZID=Europe/Paris:20171001T080000
DTEND;TZID=Europe/Paris:20171027T170000
DTSTAMP:20260422T105637
CREATED:20170608T081618Z
LAST-MODIFIED:20191017T073408Z
UID:6853-1506844800-1509123600@www.granfondo.it
SUMMARY:Mallorca 312 Camps
DESCRIPTION:In October 2017\, the organization of the popular cyclosportive Mallorca 312 recovers the route around the island thanks to the Mallorca 312 Camps. Thanks to an innovative stages format\, small groups – of a maximum of 15 cyclists – will ride 478 km with more than 8\,415 m of climbing together with a team of professional guides. This challenge presents some novelties such as the unprecedented climbs to Sant Salvador\, Cap de Formentor and the iconic port of Sa Calobra. An exclusive tour with the guarantee seal of the Mallorca 312 will let you discover the cycling paradise like you have never done it before. \n\nFigures of a Mallorca 312 Camp: \n\n5 stages\n478 km\n8\,415 m of climbing\n\n\n\nDates for the Camps 2017: \n\n1-7 October\n8-14 October\n15-21 October\n\n\n\n
URL:https://www.granfondo.it/granfondo/mallorca-312-camps/
LOCATION:Palma de Mallorca
CATEGORIES:scaduto,Training Camp
ATTACH;FMTTYPE=image/png:https://www.granfondo.it/wp-content/uploads/2017/06/Mallorca-312-Camps.png
END:VEVENT
END:VCALENDAR