BEGIN:VCALENDAR
VERSION:2.0
PRODID:-//GRAN FONDO - Corse, gare e granfondo in Italia - ECPv4.9.14//NONSGML v1.0//EN
CALSCALE:GREGORIAN
METHOD:PUBLISH
X-WR-CALNAME:GRAN FONDO - Corse, gare e granfondo in Italia
X-ORIGINAL-URL:https://www.granfondo.it
X-WR-CALDESC:Eventi per GRAN FONDO - Corse, gare e granfondo in Italia
BEGIN:VTIMEZONE
TZID:Europe/Paris
BEGIN:DAYLIGHT
TZOFFSETFROM:+0100
TZOFFSETTO:+0200
TZNAME:CEST
DTSTART:20160327T010000
END:DAYLIGHT
BEGIN:STANDARD
TZOFFSETFROM:+0200
TZOFFSETTO:+0100
TZNAME:CET
DTSTART:20161030T010000
END:STANDARD
END:VTIMEZONE
BEGIN:VEVENT
DTSTART;TZID=Europe/Paris:20160820T080000
DTEND;TZID=Europe/Paris:20160821T170000
DTSTAMP:20260419T140145
CREATED:20160526T083338Z
LAST-MODIFIED:20191017T073452Z
UID:3960-1471680000-1471798800@www.granfondo.it
SUMMARY:Le Mans 24H Cycling Race
DESCRIPTION:
URL:https://www.granfondo.it/granfondo/le-mans-24h-cycling-race/
LOCATION:Le Mans\, Le Mans
CATEGORIES:Bici Da Corsa,scaduto
ATTACH;FMTTYPE=image/png:https://www.granfondo.it/wp-content/uploads/2016/05/LOGO-GRANFONDO.png
ORGANIZER;CN="Agence%20CGO":MAILTO:course@24heuresvelo.fr
END:VEVENT
END:VCALENDAR