BEGIN:VCALENDAR
VERSION:2.0
PRODID:-//GRAN FONDO - Corse, gare e granfondo in Italia - ECPv4.9.14//NONSGML v1.0//EN
CALSCALE:GREGORIAN
METHOD:PUBLISH
X-WR-CALNAME:GRAN FONDO - Corse, gare e granfondo in Italia
X-ORIGINAL-URL:https://www.granfondo.it
X-WR-CALDESC:Eventi per GRAN FONDO - Corse, gare e granfondo in Italia
BEGIN:VTIMEZONE
TZID:Europe/Paris
BEGIN:DAYLIGHT
TZOFFSETFROM:+0100
TZOFFSETTO:+0200
TZNAME:CEST
DTSTART:20180325T010000
END:DAYLIGHT
BEGIN:STANDARD
TZOFFSETFROM:+0200
TZOFFSETTO:+0100
TZNAME:CET
DTSTART:20181028T010000
END:STANDARD
END:VTIMEZONE
BEGIN:VEVENT
DTSTART;VALUE=DATE:20180901
DTEND;VALUE=DATE:20180902
DTSTAMP:20260419T210123
CREATED:20180207T121650Z
LAST-MODIFIED:20191017T073707Z
UID:7816-1535760000-1535846399@www.granfondo.it
SUMMARY:La SpoletoNorcia Extreme
DESCRIPTION:
URL:https://www.granfondo.it/granfondo/la-spoletonorcia-extreme/
LOCATION:Spoleto\, Spoleto                            \, Perugia\, Italia
CATEGORIES:Mountain Bike,scaduto
ATTACH;FMTTYPE=image/jpeg:https://www.granfondo.it/wp-content/uploads/2018/02/cin.jpg
ORGANIZER;CN="MTB%20club%20Spoleto":MAILTO:segreteria@mtbclubspoleto.it
END:VEVENT
END:VCALENDAR