BEGIN:VCALENDAR
VERSION:2.0
PRODID:-//GRAN FONDO - Corse, gare e granfondo in Italia - ECPv4.9.14//NONSGML v1.0//EN
CALSCALE:GREGORIAN
METHOD:PUBLISH
X-WR-CALNAME:GRAN FONDO - Corse, gare e granfondo in Italia
X-ORIGINAL-URL:https://www.granfondo.it
X-WR-CALDESC:Eventi per GRAN FONDO - Corse, gare e granfondo in Italia
BEGIN:VTIMEZONE
TZID:Europe/Paris
BEGIN:DAYLIGHT
TZOFFSETFROM:+0100
TZOFFSETTO:+0200
TZNAME:CEST
DTSTART:20190331T010000
END:DAYLIGHT
BEGIN:STANDARD
TZOFFSETFROM:+0200
TZOFFSETTO:+0100
TZNAME:CET
DTSTART:20191027T010000
END:STANDARD
END:VTIMEZONE
BEGIN:VEVENT
DTSTART;VALUE=DATE:20190505
DTEND;VALUE=DATE:20190506
DTSTAMP:20260421T080853
CREATED:20181120T131737Z
LAST-MODIFIED:20191017T074028Z
UID:8332-1557014400-1557100799@www.granfondo.it
SUMMARY:LA MERCAN’TOUR LADIES
DESCRIPTION:
URL:https://www.granfondo.it/granfondo/la-mercantour-ladies/
LOCATION:Valberg\, Valberg
CATEGORIES:Bici Da Corsa,scaduto
ATTACH;FMTTYPE=image/jpeg:https://www.granfondo.it/wp-content/uploads/2018/11/EY5B0746.jpg
ORGANIZER;CN="Mercan%27Tour%20Granfondo":MAILTO:clubalpesazur@gmail.com
END:VEVENT
END:VCALENDAR