BEGIN:VCALENDAR
VERSION:2.0
PRODID:-//GRAN FONDO - Corse, gare e granfondo in Italia - ECPv4.9.14//NONSGML v1.0//EN
CALSCALE:GREGORIAN
METHOD:PUBLISH
X-WR-CALNAME:GRAN FONDO - Corse, gare e granfondo in Italia
X-ORIGINAL-URL:https://www.granfondo.it
X-WR-CALDESC:Eventi per GRAN FONDO - Corse, gare e granfondo in Italia
BEGIN:VTIMEZONE
TZID:Europe/Paris
BEGIN:DAYLIGHT
TZOFFSETFROM:+0100
TZOFFSETTO:+0200
TZNAME:CEST
DTSTART:20160327T010000
END:DAYLIGHT
BEGIN:STANDARD
TZOFFSETFROM:+0200
TZOFFSETTO:+0100
TZNAME:CET
DTSTART:20161030T010000
END:STANDARD
END:VTIMEZONE
BEGIN:VEVENT
DTSTART;VALUE=DATE:20160710
DTEND;VALUE=DATE:20160711
DTSTAMP:20260420T004156
CREATED:20160526T085302Z
LAST-MODIFIED:20191017T073515Z
UID:3978-1468108800-1468195199@www.granfondo.it
SUMMARY:L'Atape du Tour
DESCRIPTION:
URL:https://www.granfondo.it/granfondo/la%e2%80%b0tape-du-tour/
LOCATION:Saint-Jean-de-Maurienne\, Saint-Jean-de-Maurienne
CATEGORIES:Bici Da Corsa,scaduto
ATTACH;FMTTYPE=image/jpeg:https://www.granfondo.it/wp-content/uploads/2016/05/EDT_LOGO_CMJN_0_0.jpg
ORGANIZER;CN="A.S.O.%20-%20l%27%C3%83%E2%80%B0tape%20du%20Tour%20-%20V%C3%83%C2%A9lo%20Magazine":MAILTO:letapedutour@aso.fr
END:VEVENT
END:VCALENDAR