BEGIN:VCALENDAR
VERSION:2.0
PRODID:-//GRAN FONDO - Corse, gare e granfondo in Italia - ECPv4.9.14//NONSGML v1.0//EN
CALSCALE:GREGORIAN
METHOD:PUBLISH
X-WR-CALNAME:GRAN FONDO - Corse, gare e granfondo in Italia
X-ORIGINAL-URL:https://www.granfondo.it
X-WR-CALDESC:Eventi per GRAN FONDO - Corse, gare e granfondo in Italia
BEGIN:VTIMEZONE
TZID:Europe/Paris
BEGIN:DAYLIGHT
TZOFFSETFROM:+0100
TZOFFSETTO:+0200
TZNAME:CEST
DTSTART:20190331T010000
END:DAYLIGHT
BEGIN:STANDARD
TZOFFSETFROM:+0200
TZOFFSETTO:+0100
TZNAME:CET
DTSTART:20191027T010000
END:STANDARD
END:VTIMEZONE
BEGIN:VEVENT
DTSTART;VALUE=DATE:20190922
DTEND;VALUE=DATE:20190923
DTSTAMP:20260419T174224
CREATED:20160526T070541Z
LAST-MODIFIED:20191017T074539Z
UID:3877-1569110400-1569196799@www.granfondo.it
SUMMARY:Iron Bike Race\, Einsiedeln
DESCRIPTION:
URL:https://www.granfondo.it/granfondo/iron-bike-race-einsiedeln/
LOCATION:Einsiedeln\, Einsiedeln
CATEGORIES:Mountain Bike,scaduto
ATTACH;FMTTYPE=image/jpeg:https://www.granfondo.it/wp-content/uploads/2017/07/1011267_708153245927606_871291478607534566_n.jpg
ORGANIZER;CN="IronBike":MAILTO:info@iron-bike.ch
END:VEVENT
END:VCALENDAR