BEGIN:VCALENDAR
VERSION:2.0
PRODID:-//GRAN FONDO - Corse, gare e granfondo in Italia - ECPv4.9.14//NONSGML v1.0//EN
CALSCALE:GREGORIAN
METHOD:PUBLISH
X-WR-CALNAME:GRAN FONDO - Corse, gare e granfondo in Italia
X-ORIGINAL-URL:https://www.granfondo.it
X-WR-CALDESC:Eventi per GRAN FONDO - Corse, gare e granfondo in Italia
BEGIN:VTIMEZONE
TZID:Europe/Paris
BEGIN:DAYLIGHT
TZOFFSETFROM:+0100
TZOFFSETTO:+0200
TZNAME:CEST
DTSTART:20190331T010000
END:DAYLIGHT
BEGIN:STANDARD
TZOFFSETFROM:+0200
TZOFFSETTO:+0100
TZNAME:CET
DTSTART:20191027T010000
END:STANDARD
END:VTIMEZONE
BEGIN:VEVENT
DTSTART;TZID=Europe/Paris:20190927T080000
DTEND;TZID=Europe/Paris:20190929T170000
DTSTAMP:20260420T002411
CREATED:20181212T143956Z
LAST-MODIFIED:20191017T074537Z
UID:8559-1569571200-1569776400@www.granfondo.it
SUMMARY:Haute Route San Francisco
DESCRIPTION:\n\n\nTre giorni indimenticabili sullo sfondo del Golden Gate Bridge.\n2019 – seconda edizione. \nCittà ospitante: San Francisco\, CA. \nUnico evento Haute Route organizzato in una grande città internazionale: la Baia di San Francisco è infatti uno dei principali vivai del ciclismo su strada statunitense. Il clima ideale\, le salite ripide e la vista dell’oceano da decenni attraggono professionisti e amatori. Con i suoi 315 km e 5\,800 m di dislivello positivo\, la gara unisce sapientemente percorsi costieri\, tratti in salita brevi e altri più lunghi e impegnativi. \nGoditi un fine settimana a San Francisco\, percorrerai il Golden Gate Bridge in sella alla tua bici\, assaporerai l’ambiente multiculturale della città\, alla scoperta di una delle migliori cucine degli Stati Uniti\, e potrai dedicarti con i tuoi amici a numerosissime attività. \n\n\n
URL:https://www.granfondo.it/granfondo/haute-route-san-francisco/
LOCATION:San Francisco\, San Francisco (USA)
CATEGORIES:Bici Da Corsa,Cronometro,scaduto
ORGANIZER;CN="Haute%20Route":MAILTO:contact.italy@hauteroute.org
END:VEVENT
END:VCALENDAR