BEGIN:VCALENDAR
VERSION:2.0
PRODID:-//GRAN FONDO - Corse, gare e granfondo in Italia - ECPv4.9.14//NONSGML v1.0//EN
CALSCALE:GREGORIAN
METHOD:PUBLISH
X-WR-CALNAME:GRAN FONDO - Corse, gare e granfondo in Italia
X-ORIGINAL-URL:https://www.granfondo.it
X-WR-CALDESC:Eventi per GRAN FONDO - Corse, gare e granfondo in Italia
BEGIN:VTIMEZONE
TZID:Europe/Paris
BEGIN:DAYLIGHT
TZOFFSETFROM:+0100
TZOFFSETTO:+0200
TZNAME:CEST
DTSTART:20190331T010000
END:DAYLIGHT
BEGIN:STANDARD
TZOFFSETFROM:+0200
TZOFFSETTO:+0100
TZNAME:CET
DTSTART:20191027T010000
END:STANDARD
END:VTIMEZONE
BEGIN:VEVENT
DTSTART;TZID=Europe/Paris:20190517T080000
DTEND;TZID=Europe/Paris:20190519T170000
DTSTAMP:20260426T030036
CREATED:20181211T162834Z
LAST-MODIFIED:20191017T074010Z
UID:8522-1558080000-1558285200@www.granfondo.it
SUMMARY:Haute Route Asheville
DESCRIPTION:\n\n\nLe Blue Ridge Mountains e le strade dove i professionisti si sentono a casa.\n2019 – seconda edizione. \nCittà ospitante: Asheville\, NC. \nUna volta ad Asheville sarai uno dei partecipanti privilegiati dell’evento che si snoda lungo la Blue Ridge Parkway e i suoi incantevoli paesaggi. Attraverserai in sella alla tua bici la storica tenuta Biltmore Estate\, la dimora privata più grande degli Stati Uniti. Il tracciato è lungo 300 km\, con 6\,500 m di dislivello positivo\, in cui si alternano brevi salite molto ripide ad altre più lunghe\, di sapore europeo. \nDopo la gara non perdere l’occasione di visitare i numerosi birrifici (sono almeno 30!) che sono valsi ad Asheville il titolo di “Beer City USA” e di gustare le specialità gastronomiche locali\, per non parlare delle numerose attività indoor e outdoor della cittadina\, che la rendono perfetta per un weekend con la famiglia. \n\n\n\n\n\n\n\n\n\n
URL:https://www.granfondo.it/granfondo/haute-route-asheville/
LOCATION:Asheville\, Asheville
CATEGORIES:Bici Da Corsa,Cronometro,scaduto
ORGANIZER;CN="Haute%20Route":MAILTO:contact.italy@hauteroute.org
END:VEVENT
END:VCALENDAR