BEGIN:VCALENDAR
VERSION:2.0
PRODID:-//GRAN FONDO - Corse, gare e granfondo in Italia - ECPv4.9.14//NONSGML v1.0//EN
CALSCALE:GREGORIAN
METHOD:PUBLISH
X-WR-CALNAME:GRAN FONDO - Corse, gare e granfondo in Italia
X-ORIGINAL-URL:https://www.granfondo.it
X-WR-CALDESC:Eventi per GRAN FONDO - Corse, gare e granfondo in Italia
BEGIN:VTIMEZONE
TZID:Europe/Paris
BEGIN:DAYLIGHT
TZOFFSETFROM:+0100
TZOFFSETTO:+0200
TZNAME:CEST
DTSTART:20190331T010000
END:DAYLIGHT
BEGIN:STANDARD
TZOFFSETFROM:+0200
TZOFFSETTO:+0100
TZNAME:CET
DTSTART:20191027T010000
END:STANDARD
END:VTIMEZONE
BEGIN:VEVENT
DTSTART;VALUE=DATE:20190609
DTEND;VALUE=DATE:20190610
DTSTAMP:20260422T204725
CREATED:20190204T152119Z
LAST-MODIFIED:20191017T073944Z
UID:8880-1560038400-1560124799@www.granfondo.it
SUMMARY:Granfondo Terún
DESCRIPTION:\n126 km  – 1900 mt di dislivello.\nLa granfondo del Sud – Vivere le emozioni del sud attraverso la bicicletta\, un week end esclusivo per conoscere il territorio della Riviera dei Cedri e gli splendidi scenari della Calabria e Basilicata. Non fartela raccontare\, VIVILA!!!\n\nIl 9 giugno prenderà il via la II edizione della Granfondo Terùn\, una gara cicloturistica che speriamo sia apprezzata e partecipata dai tanti appassionati che vogliono provare le emozioni di percorrere 126 km con 1900 mt di dislivello in uno dei luoghi più affascinanti d’Italia. \nLa gara prenderà il via da Scalea seguendo un percorso che dalla costa porta alle dolci colline dell’entroterra\, fino a toccare zone di montagna Lauria e Lago Sirino\, per poi affrontare il passo Colla\, ritornando a godere della splendida vista sul mar Tirreno che farà compagnia ai ciclisti da Maratea fino a Scalea passando da Castrocucco\, Praia e San Nicola Arcella. \nUna manifestazione pensata per far divertire i partecipanti\, facendo scoprire il territorio e la bellezza di 2 Regioni come la Calabria e la Basilicata che grazie al ciclismo e cicloturismo  possono divenire punto di riferimento della vacanza attiva grazie alle strutture e alle molteplici iniziative dedicate che noi Terùn vogliamo mettere in campo. \n
URL:https://www.granfondo.it/granfondo/granfondo-terun/
LOCATION:Scalea
CATEGORIES:Bici Da Corsa,scaduto
ATTACH;FMTTYPE=image/jpeg:https://www.granfondo.it/wp-content/uploads/2019/02/GF-TERUN-ITA.jpg
ORGANIZER;CN="A.S.D.%20SQUADRA%20TERUN%20SCALEA":MAILTO: squadraterunscalea@gmail.com
END:VEVENT
END:VCALENDAR