BEGIN:VCALENDAR
VERSION:2.0
PRODID:-//GRAN FONDO - Corse, gare e granfondo in Italia - ECPv4.9.14//NONSGML v1.0//EN
CALSCALE:GREGORIAN
METHOD:PUBLISH
X-WR-CALNAME:GRAN FONDO - Corse, gare e granfondo in Italia
X-ORIGINAL-URL:https://www.granfondo.it
X-WR-CALDESC:Eventi per GRAN FONDO - Corse, gare e granfondo in Italia
BEGIN:VTIMEZONE
TZID:Europe/Paris
BEGIN:DAYLIGHT
TZOFFSETFROM:+0100
TZOFFSETTO:+0200
TZNAME:CEST
DTSTART:20170326T010000
END:DAYLIGHT
BEGIN:STANDARD
TZOFFSETFROM:+0200
TZOFFSETTO:+0100
TZNAME:CET
DTSTART:20171029T010000
END:STANDARD
END:VTIMEZONE
BEGIN:VEVENT
DTSTART;TZID=Europe/Paris:20170924T080000
DTEND;TZID=Europe/Paris:20170924T170000
DTSTAMP:20260420T052616
CREATED:20170701T121851Z
LAST-MODIFIED:20191017T073410Z
UID:7081-1506240000-1506272400@www.granfondo.it
SUMMARY:Granfondo Loabikers
DESCRIPTION:
URL:https://www.granfondo.it/granfondo/granfondo-loabikers-2/
LOCATION:Loano\, Loano\, Savona\, Italia
CATEGORIES:Bici Da Corsa,scaduto
ATTACH;FMTTYPE=image/jpeg:https://www.granfondo.it/wp-content/uploads/2017/06/55PICARDE-3.jpg
END:VEVENT
END:VCALENDAR