BEGIN:VCALENDAR
VERSION:2.0
PRODID:-//GRAN FONDO - Corse, gare e granfondo in Italia - ECPv4.9.14//NONSGML v1.0//EN
CALSCALE:GREGORIAN
METHOD:PUBLISH
X-WR-CALNAME:GRAN FONDO - Corse, gare e granfondo in Italia
X-ORIGINAL-URL:https://www.granfondo.it
X-WR-CALDESC:Eventi per GRAN FONDO - Corse, gare e granfondo in Italia
BEGIN:VTIMEZONE
TZID:Europe/Paris
BEGIN:DAYLIGHT
TZOFFSETFROM:+0100
TZOFFSETTO:+0200
TZNAME:CEST
DTSTART:20240331T010000
END:DAYLIGHT
BEGIN:STANDARD
TZOFFSETFROM:+0200
TZOFFSETTO:+0100
TZNAME:CET
DTSTART:20241027T010000
END:STANDARD
END:VTIMEZONE
BEGIN:VEVENT
DTSTART;VALUE=DATE:20240414
DTEND;VALUE=DATE:20240415
DTSTAMP:20260423T022636
CREATED:20180223T130233Z
LAST-MODIFIED:20231201T142756Z
UID:8022-1713052800-1713139199@www.granfondo.it
SUMMARY:Granfondo di Casteggio
DESCRIPTION:
URL:https://www.granfondo.it/granfondo/granfondo-di-casteggio/
LOCATION:Casteggio
CATEGORIES:Bici Da Corsa
ATTACH;FMTTYPE=image/jpeg:https://www.granfondo.it/wp-content/uploads/2018/02/top-dolomites-gran-fondo37590.jpg
ORGANIZER;CN="a.s.d.%20SANT%27ANGELO%20EDILFERRAMENTA":MAILTO:asdsantangelo1972@gmail.com
END:VEVENT
END:VCALENDAR