BEGIN:VCALENDAR
VERSION:2.0
PRODID:-//GRAN FONDO - Corse, gare e granfondo in Italia - ECPv4.9.14//NONSGML v1.0//EN
CALSCALE:GREGORIAN
METHOD:PUBLISH
X-WR-CALNAME:GRAN FONDO - Corse, gare e granfondo in Italia
X-ORIGINAL-URL:https://www.granfondo.it
X-WR-CALDESC:Eventi per GRAN FONDO - Corse, gare e granfondo in Italia
BEGIN:VTIMEZONE
TZID:Europe/Paris
BEGIN:DAYLIGHT
TZOFFSETFROM:+0100
TZOFFSETTO:+0200
TZNAME:CEST
DTSTART:20160327T010000
END:DAYLIGHT
BEGIN:STANDARD
TZOFFSETFROM:+0200
TZOFFSETTO:+0100
TZNAME:CET
DTSTART:20161030T010000
END:STANDARD
END:VTIMEZONE
BEGIN:VEVENT
DTSTART;TZID=Europe/Paris:20160409T080000
DTEND;TZID=Europe/Paris:20160410T170000
DTSTAMP:20260419T140151
CREATED:20160613T055057Z
LAST-MODIFIED:20191017T072449Z
UID:5849-1460188800-1460307600@www.granfondo.it
SUMMARY:Grand Prix Fliegerhorst presented by Raiffeisen
DESCRIPTION:
URL:https://www.granfondo.it/granfondo/grand-prix-fliegerhorst-presented-by-raiffeisen/
LOCATION:Markersdorf/Pielach\, Markersdorf/Pielach                             
CATEGORIES:Bici Da Corsa,scaduto
ATTACH;FMTTYPE=image/png:https://www.granfondo.it/wp-content/uploads/2016/05/LOGO-GRANFONDO.png
ORGANIZER;CN="Unnamed%20Organizer":MAILTO:info@radrennteam-pielachtal.at
END:VEVENT
END:VCALENDAR