BEGIN:VCALENDAR
VERSION:2.0
PRODID:-//GRAN FONDO - Corse, gare e granfondo in Italia - ECPv4.9.14//NONSGML v1.0//EN
CALSCALE:GREGORIAN
METHOD:PUBLISH
X-WR-CALNAME:GRAN FONDO - Corse, gare e granfondo in Italia
X-ORIGINAL-URL:https://www.granfondo.it
X-WR-CALDESC:Eventi per GRAN FONDO - Corse, gare e granfondo in Italia
BEGIN:VTIMEZONE
TZID:Europe/Paris
BEGIN:DAYLIGHT
TZOFFSETFROM:+0100
TZOFFSETTO:+0200
TZNAME:CEST
DTSTART:20160327T010000
END:DAYLIGHT
BEGIN:STANDARD
TZOFFSETFROM:+0200
TZOFFSETTO:+0100
TZNAME:CET
DTSTART:20161030T010000
END:STANDARD
END:VTIMEZONE
BEGIN:VEVENT
DTSTART;VALUE=DATE:20160918
DTEND;VALUE=DATE:20160919
DTSTAMP:20260423T084734
CREATED:20160526T060549Z
LAST-MODIFIED:20191017T073437Z
UID:3808-1474156800-1474243199@www.granfondo.it
SUMMARY:Gran Fondo Vincenzo Nibali
DESCRIPTION:
URL:https://www.granfondo.it/granfondo/gran-fondo-vincenzo-nibali-2/
LOCATION:Messina\, Messina\, Messina\, Italia
CATEGORIES:Bici Da Corsa,scaduto
ATTACH;FMTTYPE=image/png:https://www.granfondo.it/wp-content/uploads/2016/05/LOGO-GRANFONDO.png
ORGANIZER;CN="Unnamed%20Organizer":MAILTO:fanclubnibali.mc@gmail.com
END:VEVENT
END:VCALENDAR