BEGIN:VCALENDAR
VERSION:2.0
PRODID:-//GRAN FONDO - Corse, gare e granfondo in Italia - ECPv4.9.14//NONSGML v1.0//EN
CALSCALE:GREGORIAN
METHOD:PUBLISH
X-WR-CALNAME:GRAN FONDO - Corse, gare e granfondo in Italia
X-ORIGINAL-URL:https://www.granfondo.it
X-WR-CALDESC:Eventi per GRAN FONDO - Corse, gare e granfondo in Italia
BEGIN:VTIMEZONE
TZID:Europe/Paris
BEGIN:DAYLIGHT
TZOFFSETFROM:+0100
TZOFFSETTO:+0200
TZNAME:CEST
DTSTART:20150329T010000
END:DAYLIGHT
BEGIN:STANDARD
TZOFFSETFROM:+0200
TZOFFSETTO:+0100
TZNAME:CET
DTSTART:20151025T010000
END:STANDARD
END:VTIMEZONE
BEGIN:VEVENT
DTSTART;VALUE=DATE:20150503
DTEND;VALUE=DATE:20150504
DTSTAMP:20260422T104114
CREATED:20160610T151329Z
LAST-MODIFIED:20191017T072027Z
UID:5820-1430611200-1430697599@www.granfondo.it
SUMMARY:Gran Fondo Valle dei Templi
DESCRIPTION:
URL:https://www.granfondo.it/granfondo/gran-fondo-valle-dei-templi-2/
LOCATION:Agrigento\, Agrigento\, Agrigento\, Italia
CATEGORIES:Bici Da Corsa,scaduto
ATTACH;FMTTYPE=image/png:https://www.granfondo.it/wp-content/uploads/2016/05/LOGO-GRANFONDO.png
ORGANIZER;CN="Unnamed%20Organizer":MAILTO:&quot;Mobile:380/3716717 3284227875 3496674225 3316032007 email:mikebat@alice.it danielecutaia@live.it carpass@infinito.it carlolatino@alice.it&quot;
END:VEVENT
END:VCALENDAR