BEGIN:VCALENDAR
VERSION:2.0
PRODID:-//GRAN FONDO - Corse, gare e granfondo in Italia - ECPv4.9.14//NONSGML v1.0//EN
CALSCALE:GREGORIAN
METHOD:PUBLISH
X-WR-CALNAME:GRAN FONDO - Corse, gare e granfondo in Italia
X-ORIGINAL-URL:https://www.granfondo.it
X-WR-CALDESC:Eventi per GRAN FONDO - Corse, gare e granfondo in Italia
BEGIN:VTIMEZONE
TZID:Europe/Paris
BEGIN:DAYLIGHT
TZOFFSETFROM:+0100
TZOFFSETTO:+0200
TZNAME:CEST
DTSTART:20240331T010000
END:DAYLIGHT
BEGIN:STANDARD
TZOFFSETFROM:+0200
TZOFFSETTO:+0100
TZNAME:CET
DTSTART:20241027T010000
END:STANDARD
END:VTIMEZONE
BEGIN:VEVENT
DTSTART;VALUE=DATE:20240225
DTEND;VALUE=DATE:20240226
DTSTAMP:20260423T060131
CREATED:20231210T143416Z
LAST-MODIFIED:20231210T143416Z
UID:39284-1708819200-1708905599@www.granfondo.it
SUMMARY:Gran Fondo Sorrento Due Costiere
DESCRIPTION:
URL:https://www.granfondo.it/granfondo/gran-fondo-sorrento-due-costiere/
LOCATION:Sorrento\, Sorrento                            \, Napoli\, Italia
CATEGORIES:Bici Da Corsa
ATTACH;FMTTYPE=image/jpeg:https://www.granfondo.it/wp-content/uploads/2023/12/Cattura-2.jpg
ORGANIZER;CN="Gran%20Fondo%20Sorrento%20Due%20Costiere":MAILTO:info.omniacomunicazione@gmail.com
END:VEVENT
END:VCALENDAR