BEGIN:VCALENDAR
VERSION:2.0
PRODID:-//GRAN FONDO - Corse, gare e granfondo in Italia - ECPv4.9.14//NONSGML v1.0//EN
CALSCALE:GREGORIAN
METHOD:PUBLISH
X-WR-CALNAME:GRAN FONDO - Corse, gare e granfondo in Italia
X-ORIGINAL-URL:https://www.granfondo.it
X-WR-CALDESC:Eventi per GRAN FONDO - Corse, gare e granfondo in Italia
BEGIN:VTIMEZONE
TZID:Europe/Paris
BEGIN:DAYLIGHT
TZOFFSETFROM:+0100
TZOFFSETTO:+0200
TZNAME:CEST
DTSTART:20180325T010000
END:DAYLIGHT
BEGIN:STANDARD
TZOFFSETFROM:+0200
TZOFFSETTO:+0100
TZNAME:CET
DTSTART:20181028T010000
END:STANDARD
END:VTIMEZONE
BEGIN:VEVENT
DTSTART;VALUE=DATE:20180408
DTEND;VALUE=DATE:20180409
DTSTAMP:20260424T141836
CREATED:20160610T134045Z
LAST-MODIFIED:20191017T073740Z
UID:5718-1523145600-1523231999@www.granfondo.it
SUMMARY:Gran Fondo San Maurizio 1969
DESCRIPTION:
URL:https://www.granfondo.it/granfondo/gran-fondo-san-maurizio-1969/
LOCATION:San Stefano Belbo\, San Stefano Belbo                            \, Cuneo\, Italia
CATEGORIES:Bici Da Corsa,scaduto
ATTACH;FMTTYPE=image/jpeg:https://www.granfondo.it/wp-content/uploads/2016/06/hq720.jpg
ORGANIZER;CN="A.S.D.%20G.S.%20Loabikers":MAILTO:loa1963@alice.it
END:VEVENT
END:VCALENDAR