BEGIN:VCALENDAR
VERSION:2.0
PRODID:-//GRAN FONDO - Corse, gare e granfondo in Italia - ECPv4.9.14//NONSGML v1.0//EN
CALSCALE:GREGORIAN
METHOD:PUBLISH
X-WR-CALNAME:GRAN FONDO - Corse, gare e granfondo in Italia
X-ORIGINAL-URL:https://www.granfondo.it
X-WR-CALDESC:Eventi per GRAN FONDO - Corse, gare e granfondo in Italia
BEGIN:VTIMEZONE
TZID:Europe/Paris
BEGIN:DAYLIGHT
TZOFFSETFROM:+0100
TZOFFSETTO:+0200
TZNAME:CEST
DTSTART:20190331T010000
END:DAYLIGHT
BEGIN:STANDARD
TZOFFSETFROM:+0200
TZOFFSETTO:+0100
TZNAME:CET
DTSTART:20191027T010000
END:STANDARD
END:VTIMEZONE
BEGIN:VEVENT
DTSTART;VALUE=DATE:20190428
DTEND;VALUE=DATE:20190429
DTSTAMP:20260419T220217
CREATED:20150513T135618Z
LAST-MODIFIED:20191017T074031Z
UID:2629-1556409600-1556495999@www.granfondo.it
SUMMARY:Gran Fondo Ribera Città delle Arance
DESCRIPTION:
URL:https://www.granfondo.it/granfondo/gran-fondo-ribera-citta-delle-arance/
LOCATION:Ribera\, Ribera                            \, Agrigento\, Italia
CATEGORIES:Bici Da Corsa,scaduto
ATTACH;FMTTYPE=image/jpeg:https://www.granfondo.it/wp-content/uploads/2015/05/432.jpg
ORGANIZER;CN="ASSOCIAZIONE%20SPORTIVA%20DILETTANTISTICA%20RIBERA":MAILTO:	asd.pedaleriberese@gmail.com
END:VEVENT
END:VCALENDAR