BEGIN:VCALENDAR
VERSION:2.0
PRODID:-//GRAN FONDO - Corse, gare e granfondo in Italia - ECPv4.9.14//NONSGML v1.0//EN
CALSCALE:GREGORIAN
METHOD:PUBLISH
X-WR-CALNAME:GRAN FONDO - Corse, gare e granfondo in Italia
X-ORIGINAL-URL:https://www.granfondo.it
X-WR-CALDESC:Eventi per GRAN FONDO - Corse, gare e granfondo in Italia
BEGIN:VTIMEZONE
TZID:Europe/Paris
BEGIN:DAYLIGHT
TZOFFSETFROM:+0100
TZOFFSETTO:+0200
TZNAME:CEST
DTSTART:20180325T010000
END:DAYLIGHT
BEGIN:STANDARD
TZOFFSETFROM:+0200
TZOFFSETTO:+0100
TZNAME:CET
DTSTART:20181028T010000
END:STANDARD
END:VTIMEZONE
BEGIN:VEVENT
DTSTART;VALUE=DATE:20180902
DTEND;VALUE=DATE:20180903
DTSTAMP:20260419T211609
CREATED:20180116T121844Z
LAST-MODIFIED:20191017T073706Z
UID:7653-1535846400-1535932799@www.granfondo.it
SUMMARY:Gran Fondo PNA
DESCRIPTION:
URL:https://www.granfondo.it/granfondo/gran-fondo-pna/
LOCATION:Pescasseroli\, Pescasseroli                            \, L'Aquila\, Italia
CATEGORIES:Mountain Bike,scaduto
ATTACH;FMTTYPE=image/jpeg:https://www.granfondo.it/wp-content/uploads/2017/07/tumblr_inline_olhkloYgQ71u2p0bw_1280.jpg
ORGANIZER;CN="ASD%20Pescasseroli":MAILTO:info@aspescasseroli.org
END:VEVENT
END:VCALENDAR