BEGIN:VCALENDAR
VERSION:2.0
PRODID:-//GRAN FONDO - Corse, gare e granfondo in Italia - ECPv4.9.14//NONSGML v1.0//EN
CALSCALE:GREGORIAN
METHOD:PUBLISH
X-WR-CALNAME:GRAN FONDO - Corse, gare e granfondo in Italia
X-ORIGINAL-URL:https://www.granfondo.it
X-WR-CALDESC:Eventi per GRAN FONDO - Corse, gare e granfondo in Italia
BEGIN:VTIMEZONE
TZID:Europe/Paris
BEGIN:DAYLIGHT
TZOFFSETFROM:+0100
TZOFFSETTO:+0200
TZNAME:CEST
DTSTART:20160327T010000
END:DAYLIGHT
BEGIN:STANDARD
TZOFFSETFROM:+0200
TZOFFSETTO:+0100
TZNAME:CET
DTSTART:20161030T010000
END:STANDARD
END:VTIMEZONE
BEGIN:VEVENT
DTSTART;VALUE=DATE:20160605
DTEND;VALUE=DATE:20160606
DTSTAMP:20260419T162659
CREATED:20160525T143554Z
LAST-MODIFIED:20191017T073211Z
UID:3720-1465084800-1465171199@www.granfondo.it
SUMMARY:Gran Fondo Montecatini Terme
DESCRIPTION:
URL:https://www.granfondo.it/granfondo/gran-fondo-montecatini-terme-2/
LOCATION:Montecatini Terme\, Montecatini Terme\, Pistoia\, Italia
CATEGORIES:Bici Da Corsa,scaduto
ATTACH;FMTTYPE=image/png:https://www.granfondo.it/wp-content/uploads/2016/05/LOGO-GRANFONDO.png
ORGANIZER;CN="Unnamed%20Organizer":MAILTO:montecatinitermeesport@gmail.com
END:VEVENT
END:VCALENDAR