BEGIN:VCALENDAR
VERSION:2.0
PRODID:-//GRAN FONDO - Corse, gare e granfondo in Italia - ECPv4.9.14//NONSGML v1.0//EN
CALSCALE:GREGORIAN
METHOD:PUBLISH
X-WR-CALNAME:GRAN FONDO - Corse, gare e granfondo in Italia
X-ORIGINAL-URL:https://www.granfondo.it
X-WR-CALDESC:Eventi per GRAN FONDO - Corse, gare e granfondo in Italia
BEGIN:VTIMEZONE
TZID:Europe/Paris
BEGIN:DAYLIGHT
TZOFFSETFROM:+0100
TZOFFSETTO:+0200
TZNAME:CEST
DTSTART:20170326T010000
END:DAYLIGHT
BEGIN:STANDARD
TZOFFSETFROM:+0200
TZOFFSETTO:+0100
TZNAME:CET
DTSTART:20171029T010000
END:STANDARD
END:VTIMEZONE
BEGIN:VEVENT
DTSTART;TZID=Europe/Paris:20170917T080000
DTEND;TZID=Europe/Paris:20170917T170000
DTSTAMP:20260420T052345
CREATED:20170629T113516Z
LAST-MODIFIED:20191017T073411Z
UID:7063-1505635200-1505667600@www.granfondo.it
SUMMARY:Gran Fondo Memorial Darwin Lupinetti
DESCRIPTION:
URL:https://www.granfondo.it/granfondo/gran-fondo-memorial-darwin-lupinetti-3/
LOCATION:Teramo\, Teramo\, Teramo\, Italia
CATEGORIES:Bici Da Corsa,scaduto
ATTACH;FMTTYPE=image/jpeg:https://www.granfondo.it/wp-content/uploads/2017/06/161LESDEUXALPES-1.jpg
END:VEVENT
END:VCALENDAR