BEGIN:VCALENDAR
VERSION:2.0
PRODID:-//GRAN FONDO - Corse, gare e granfondo in Italia - ECPv4.9.14//NONSGML v1.0//EN
CALSCALE:GREGORIAN
METHOD:PUBLISH
X-WR-CALNAME:GRAN FONDO - Corse, gare e granfondo in Italia
X-ORIGINAL-URL:https://www.granfondo.it
X-WR-CALDESC:Eventi per GRAN FONDO - Corse, gare e granfondo in Italia
BEGIN:VTIMEZONE
TZID:Europe/Paris
BEGIN:DAYLIGHT
TZOFFSETFROM:+0100
TZOFFSETTO:+0200
TZNAME:CEST
DTSTART:20180325T010000
END:DAYLIGHT
BEGIN:STANDARD
TZOFFSETFROM:+0200
TZOFFSETTO:+0100
TZNAME:CET
DTSTART:20181028T010000
END:STANDARD
END:VTIMEZONE
BEGIN:VEVENT
DTSTART;VALUE=DATE:20180617
DTEND;VALUE=DATE:20180618
DTSTAMP:20260422T091744
CREATED:20160525T140105Z
LAST-MODIFIED:20191017T073718Z
UID:3690-1529193600-1529279999@www.granfondo.it
SUMMARY:Gran Fondo Maratona de la Al Camonega
DESCRIPTION:
URL:https://www.granfondo.it/granfondo/gran-fondo-maratona-de-la-al-camonega/
LOCATION:Cividate Camuno\, Cividate Camuno\, Brescia\, Italia
CATEGORIES:Bici Da Corsa,scaduto
ATTACH;FMTTYPE=image/jpeg:https://www.granfondo.it/wp-content/uploads/2017/07/istriagranfondo645.jpg
ORGANIZER;CN="ASD%20Team%20Bardy":MAILTO:info@camonega.com
END:VEVENT
END:VCALENDAR