BEGIN:VCALENDAR
VERSION:2.0
PRODID:-//GRAN FONDO - Corse, gare e granfondo in Italia - ECPv4.9.14//NONSGML v1.0//EN
CALSCALE:GREGORIAN
METHOD:PUBLISH
X-WR-CALNAME:GRAN FONDO - Corse, gare e granfondo in Italia
X-ORIGINAL-URL:https://www.granfondo.it
X-WR-CALDESC:Eventi per GRAN FONDO - Corse, gare e granfondo in Italia
BEGIN:VTIMEZONE
TZID:Europe/Paris
BEGIN:DAYLIGHT
TZOFFSETFROM:+0100
TZOFFSETTO:+0200
TZNAME:CEST
DTSTART:20250330T010000
END:DAYLIGHT
BEGIN:STANDARD
TZOFFSETFROM:+0200
TZOFFSETTO:+0100
TZNAME:CET
DTSTART:20251026T010000
END:STANDARD
END:VTIMEZONE
BEGIN:VEVENT
DTSTART;VALUE=DATE:20250622
DTEND;VALUE=DATE:20250623
DTSTAMP:20260420T015940
CREATED:20231218T140536Z
LAST-MODIFIED:20241208T144405Z
UID:39387-1750550400-1750636799@www.granfondo.it
SUMMARY:Gran Fondo Majella e Morrone MTB
DESCRIPTION:
URL:https://www.granfondo.it/granfondo/gran-fondo-majella-e-morrone-mtb/
LOCATION:Sant’Eufemia a Majella
CATEGORIES:Mountain Bike
ATTACH;FMTTYPE=image/jpeg:https://www.granfondo.it/wp-content/uploads/2023/12/mnb.jpg
ORGANIZER;CN="Gran%20Fondo%20Majella%20e%20Morrone%20MTB":MAILTO:mtb@functionalfit.it
END:VEVENT
END:VCALENDAR