BEGIN:VCALENDAR
VERSION:2.0
PRODID:-//GRAN FONDO - Corse, gare e granfondo in Italia - ECPv4.9.14//NONSGML v1.0//EN
CALSCALE:GREGORIAN
METHOD:PUBLISH
X-WR-CALNAME:GRAN FONDO - Corse, gare e granfondo in Italia
X-ORIGINAL-URL:https://www.granfondo.it
X-WR-CALDESC:Eventi per GRAN FONDO - Corse, gare e granfondo in Italia
BEGIN:VTIMEZONE
TZID:Europe/Paris
BEGIN:DAYLIGHT
TZOFFSETFROM:+0100
TZOFFSETTO:+0200
TZNAME:CEST
DTSTART:20240331T010000
END:DAYLIGHT
BEGIN:STANDARD
TZOFFSETFROM:+0200
TZOFFSETTO:+0100
TZNAME:CET
DTSTART:20241027T010000
END:STANDARD
END:VTIMEZONE
BEGIN:VEVENT
DTSTART;VALUE=DATE:20240505
DTEND;VALUE=DATE:20240506
DTSTAMP:20260423T004034
CREATED:20160610T115501Z
LAST-MODIFIED:20231018T130243Z
UID:5582-1714867200-1714953599@www.granfondo.it
SUMMARY:Gran Fondo Liotto Città di Vicenza
DESCRIPTION:
URL:https://www.granfondo.it/granfondo/gran-fondo-liotto-citta-vicenza/
LOCATION:Vicenza\, Vicenza\, Vicenza\, Italia
CATEGORIES:Bici Da Corsa
ATTACH;FMTTYPE=image/jpeg:https://www.granfondo.it/wp-content/uploads/2019/09/DSC3334_k-Roberto-Gasparrini.jpg
ORGANIZER;CN="ASD%20Team%20Granfondo%20Liotto":MAILTO:info@granfondoliotto.it
END:VEVENT
END:VCALENDAR