BEGIN:VCALENDAR
VERSION:2.0
PRODID:-//GRAN FONDO - Corse, gare e granfondo in Italia - ECPv4.9.14//NONSGML v1.0//EN
CALSCALE:GREGORIAN
METHOD:PUBLISH
X-WR-CALNAME:GRAN FONDO - Corse, gare e granfondo in Italia
X-ORIGINAL-URL:https://www.granfondo.it
X-WR-CALDESC:Eventi per GRAN FONDO - Corse, gare e granfondo in Italia
BEGIN:VTIMEZONE
TZID:Europe/Paris
BEGIN:DAYLIGHT
TZOFFSETFROM:+0100
TZOFFSETTO:+0200
TZNAME:CEST
DTSTART:20150329T010000
END:DAYLIGHT
BEGIN:STANDARD
TZOFFSETFROM:+0200
TZOFFSETTO:+0100
TZNAME:CET
DTSTART:20151025T010000
END:STANDARD
END:VTIMEZONE
BEGIN:VEVENT
DTSTART;VALUE=DATE:20150628
DTEND;VALUE=DATE:20150629
DTSTAMP:20260420T061510
CREATED:20160610T092623Z
LAST-MODIFIED:20191017T072256Z
UID:5553-1435449600-1435535999@www.granfondo.it
SUMMARY:Gran Fondo La Terre Rosse - Montello
DESCRIPTION:
URL:https://www.granfondo.it/granfondo/gran-fondo-la-terre-rosse-montello-2/
LOCATION:Volpago del Montello\, Volpago del Montello                            \, Treviso\, Italia
CATEGORIES:Mountain Bike,scaduto
ATTACH;FMTTYPE=image/png:https://www.granfondo.it/wp-content/uploads/2016/05/LOGO-GRANFONDO.png
ORGANIZER;CN="Pedali%20di%20Marca":MAILTO:info@laterrerosse.com
END:VEVENT
END:VCALENDAR