BEGIN:VCALENDAR
VERSION:2.0
PRODID:-//GRAN FONDO - Corse, gare e granfondo in Italia - ECPv4.9.14//NONSGML v1.0//EN
CALSCALE:GREGORIAN
METHOD:PUBLISH
X-WR-CALNAME:GRAN FONDO - Corse, gare e granfondo in Italia
X-ORIGINAL-URL:https://www.granfondo.it
X-WR-CALDESC:Eventi per GRAN FONDO - Corse, gare e granfondo in Italia
BEGIN:VTIMEZONE
TZID:Europe/Paris
BEGIN:DAYLIGHT
TZOFFSETFROM:+0100
TZOFFSETTO:+0200
TZNAME:CEST
DTSTART:20250330T010000
END:DAYLIGHT
BEGIN:STANDARD
TZOFFSETFROM:+0200
TZOFFSETTO:+0100
TZNAME:CET
DTSTART:20251026T010000
END:STANDARD
END:VTIMEZONE
BEGIN:VEVENT
DTSTART;VALUE=DATE:20250706
DTEND;VALUE=DATE:20250707
DTSTAMP:20260420T002617
CREATED:20160525T132736Z
LAST-MODIFIED:20241208T172807Z
UID:3658-1751760000-1751846399@www.granfondo.it
SUMMARY:Gran Fondo Gran Tour del Pratofiorito
DESCRIPTION:
URL:https://www.granfondo.it/granfondo/gran-fondo-gran-tour-del-pratofiorito/
LOCATION:Bagni di lucca\, Bagni di Lucca\, Lucca\, Italia
CATEGORIES:Mountain Bike
ATTACH;FMTTYPE=image/jpeg:https://www.granfondo.it/wp-content/uploads/2017/07/03_Salzkammergut-Mountainbike-Trophy.jpg
ORGANIZER;CN="Jurassic%20Bike%20-GC%20Val%20di%20Lima":MAILTO:info@gtpratofiorito.it
END:VEVENT
END:VCALENDAR