BEGIN:VCALENDAR
VERSION:2.0
PRODID:-//GRAN FONDO - Corse, gare e granfondo in Italia - ECPv4.9.14//NONSGML v1.0//EN
CALSCALE:GREGORIAN
METHOD:PUBLISH
X-WR-CALNAME:GRAN FONDO - Corse, gare e granfondo in Italia
X-ORIGINAL-URL:https://www.granfondo.it
X-WR-CALDESC:Eventi per GRAN FONDO - Corse, gare e granfondo in Italia
BEGIN:VTIMEZONE
TZID:Europe/Paris
BEGIN:DAYLIGHT
TZOFFSETFROM:+0100
TZOFFSETTO:+0200
TZNAME:CEST
DTSTART:20180325T010000
END:DAYLIGHT
BEGIN:STANDARD
TZOFFSETFROM:+0200
TZOFFSETTO:+0100
TZNAME:CET
DTSTART:20181028T010000
END:STANDARD
END:VTIMEZONE
BEGIN:VEVENT
DTSTART;VALUE=DATE:20180408
DTEND;VALUE=DATE:20180409
DTSTAMP:20260424T084118
CREATED:20160610T084657Z
LAST-MODIFIED:20191017T073739Z
UID:5504-1523145600-1523231999@www.granfondo.it
SUMMARY:Gran Fondo Golfe de Saint -Tropez
DESCRIPTION:
URL:https://www.granfondo.it/granfondo/gran-fondo-golfe-de-saint-tropez/
LOCATION:Saint Tropez Quain Suffren\, Saint Tropez Quain Suffren
CATEGORIES:Bici Da Corsa,scaduto
ATTACH;FMTTYPE=image/jpeg:https://www.granfondo.it/wp-content/uploads/2016/06/IMG_9770.jpg
ORGANIZER;CN="Grand%20Trophee":MAILTO:info@sportcommunication.com
END:VEVENT
END:VCALENDAR