BEGIN:VCALENDAR
VERSION:2.0
PRODID:-//GRAN FONDO - Corse, gare e granfondo in Italia - ECPv4.9.14//NONSGML v1.0//EN
CALSCALE:GREGORIAN
METHOD:PUBLISH
X-WR-CALNAME:GRAN FONDO - Corse, gare e granfondo in Italia
X-ORIGINAL-URL:https://www.granfondo.it
X-WR-CALDESC:Eventi per GRAN FONDO - Corse, gare e granfondo in Italia
BEGIN:VTIMEZONE
TZID:Europe/Paris
BEGIN:DAYLIGHT
TZOFFSETFROM:+0100
TZOFFSETTO:+0200
TZNAME:CEST
DTSTART:20150329T010000
END:DAYLIGHT
BEGIN:STANDARD
TZOFFSETFROM:+0200
TZOFFSETTO:+0100
TZNAME:CET
DTSTART:20151025T010000
END:STANDARD
END:VTIMEZONE
BEGIN:VEVENT
DTSTART;VALUE=DATE:20150614
DTEND;VALUE=DATE:20150615
DTSTAMP:20260419T234703
CREATED:20160610T062222Z
LAST-MODIFIED:20191017T072306Z
UID:5335-1434240000-1434326399@www.granfondo.it
SUMMARY:Gran Fondo del Partenio - Sulle tracce del Lupo
DESCRIPTION:
URL:https://www.granfondo.it/granfondo/gran-fondo-del-partenio-sulle-tracce-del-lupo-2/
LOCATION:Rotondi\, Rotondi                            \, Avellino\, Italia
CATEGORIES:Mountain Bike,scaduto
ATTACH;FMTTYPE=image/png:https://www.granfondo.it/wp-content/uploads/2016/05/LOGO-GRANFONDO.png
ORGANIZER;CN="asd%20foder%20bike%20team":MAILTO:robyclem@tin.it
END:VEVENT
END:VCALENDAR