BEGIN:VCALENDAR
VERSION:2.0
PRODID:-//GRAN FONDO - Corse, gare e granfondo in Italia - ECPv4.9.14//NONSGML v1.0//EN
CALSCALE:GREGORIAN
METHOD:PUBLISH
X-WR-CALNAME:GRAN FONDO - Corse, gare e granfondo in Italia
X-ORIGINAL-URL:https://www.granfondo.it
X-WR-CALDESC:Eventi per GRAN FONDO - Corse, gare e granfondo in Italia
BEGIN:VTIMEZONE
TZID:Europe/Paris
BEGIN:DAYLIGHT
TZOFFSETFROM:+0100
TZOFFSETTO:+0200
TZNAME:CEST
DTSTART:20190331T010000
END:DAYLIGHT
BEGIN:STANDARD
TZOFFSETFROM:+0200
TZOFFSETTO:+0100
TZNAME:CET
DTSTART:20191027T010000
END:STANDARD
END:VTIMEZONE
BEGIN:VEVENT
DTSTART;VALUE=DATE:20190519
DTEND;VALUE=DATE:20190520
DTSTAMP:20260426T011558
CREATED:20160525T122206Z
LAST-MODIFIED:20191017T074001Z
UID:3590-1558224000-1558310399@www.granfondo.it
SUMMARY:Gran Fondo del Mediterraneo & Trofeo delle Madonie
DESCRIPTION:
URL:https://www.granfondo.it/granfondo/gran-fondo-del-mediterraneo-trofeo-delle-madonie/
LOCATION:Scillato\, Scillato\, Palermo\, Italia
CATEGORIES:Bici Da Corsa,scaduto
ATTACH;FMTTYPE=image/jpeg:https://www.granfondo.it/wp-content/uploads/2017/06/2093.jpg
ORGANIZER;CN="ASD%20Madone":MAILTO:a.s.d.madone@gmail.com
END:VEVENT
END:VCALENDAR