BEGIN:VCALENDAR
VERSION:2.0
PRODID:-//GRAN FONDO - Corse, gare e granfondo in Italia - ECPv4.9.14//NONSGML v1.0//EN
CALSCALE:GREGORIAN
METHOD:PUBLISH
X-WR-CALNAME:GRAN FONDO - Corse, gare e granfondo in Italia
X-ORIGINAL-URL:https://www.granfondo.it
X-WR-CALDESC:Eventi per GRAN FONDO - Corse, gare e granfondo in Italia
BEGIN:VTIMEZONE
TZID:Europe/Paris
BEGIN:DAYLIGHT
TZOFFSETFROM:+0100
TZOFFSETTO:+0200
TZNAME:CEST
DTSTART:20180325T010000
END:DAYLIGHT
BEGIN:STANDARD
TZOFFSETFROM:+0200
TZOFFSETTO:+0100
TZNAME:CET
DTSTART:20181028T010000
END:STANDARD
END:VTIMEZONE
BEGIN:VEVENT
DTSTART;VALUE=DATE:20180402
DTEND;VALUE=DATE:20180403
DTSTAMP:20260422T103950
CREATED:20171005T113655Z
LAST-MODIFIED:20191017T073741Z
UID:7236-1522627200-1522713599@www.granfondo.it
SUMMARY:Gran Fondo del Mare
DESCRIPTION:Il regolamento è valido quello relativo alla Settimana Cicloturistica.\nLa carovana della Settimana Cicloturistica si fermerà dopo i primi 81 km a Montemontanaro mentre chi aderisce alla Granfondo del Mare proseguirà dopo il ristoro come da programma. Per l’iscrizione al percorso è necessario il certificato medico per attività sportiva non agonistica\,\nla quota di partecipazione € 15\,00 ( € 10\,00 per chi alloggia nei Gabiccemarebike Hotels) \n
URL:https://www.granfondo.it/granfondo/gran-fondo-del-mare/
LOCATION:Gabicce Mare\, PU\, Italia
CATEGORIES:Bici Da Corsa,scaduto
ATTACH;FMTTYPE=image/jpeg:https://www.granfondo.it/wp-content/uploads/2016/05/dannunzio.jpg
END:VEVENT
END:VCALENDAR