BEGIN:VCALENDAR
VERSION:2.0
PRODID:-//GRAN FONDO - Corse, gare e granfondo in Italia - ECPv4.9.14//NONSGML v1.0//EN
CALSCALE:GREGORIAN
METHOD:PUBLISH
X-WR-CALNAME:GRAN FONDO - Corse, gare e granfondo in Italia
X-ORIGINAL-URL:https://www.granfondo.it
X-WR-CALDESC:Eventi per GRAN FONDO - Corse, gare e granfondo in Italia
BEGIN:VTIMEZONE
TZID:Europe/Paris
BEGIN:DAYLIGHT
TZOFFSETFROM:+0100
TZOFFSETTO:+0200
TZNAME:CEST
DTSTART:20260329T010000
END:DAYLIGHT
BEGIN:STANDARD
TZOFFSETFROM:+0200
TZOFFSETTO:+0100
TZNAME:CET
DTSTART:20261025T010000
END:STANDARD
END:VTIMEZONE
BEGIN:VEVENT
DTSTART;VALUE=DATE:20260517
DTEND;VALUE=DATE:20260518
DTSTAMP:20260424T115137
CREATED:20171008T115322Z
LAST-MODIFIED:20251101T140217Z
UID:7254-1778976000-1779062399@www.granfondo.it
SUMMARY:Gran Fondo Corsa per Haiti nelle valli del Torre e Natisone
DESCRIPTION:
URL:https://www.granfondo.it/granfondo/gran-fondo-corsa-haiti-nelle-valli-del-torre-natisone/
LOCATION:Cividale del Friuli\, Cividale del Friuli                            \, Udine\, Italia
CATEGORIES:Bici Da Corsa
ATTACH;FMTTYPE=image/jpeg:https://www.granfondo.it/wp-content/uploads/2017/10/Cattura-1-e1614263773122.jpg
ORGANIZER;CN="A.S.D.%20Chiarcosso%20-%20Help%20Haiti":MAILTO:info@corsaperhaiti.com
END:VEVENT
END:VCALENDAR